﻿BEGIN:VCALENDAR
VERSION:2.0
PRODID:-//eventon.com NONSGML v1.0//EN
CALSCALE:GREGORIAN
METHOD:PUBLISH
BEGIN:VEVENT
UID:69e7389dc3ddf
DTSTAMP:20260421T084309Z
DTSTART:20220119
DTEND:20220120
LOCATION:
SUMMARY:8 días de Ejercicios Espirituales Enero - Corrientes (2da tanda)
DESCRIPTION:Ejercicios Espirituales Información e inscripciones en +54 9 3
 794 79-3970 Acompaña: Francisco Bettinelli\,  SJ\nhttps://sabiamenteignora
 nte.com/events/8-dias-de-ejercicios-espirituales-enero-corrientes-2da-tanda
 /
URL:https://sabiamenteignorante.com/events/8-dias-de-ejercicios-espirituales-enero-corrientes-2da-tanda/
END:VEVENT
END:VCALENDAR