﻿BEGIN:VCALENDAR
VERSION:2.0
PRODID:-//eventon.com NONSGML v1.0//EN
CALSCALE:GREGORIAN
METHOD:PUBLISH
BEGIN:VEVENT
UID:69e7394288863
DTSTAMP:20260421T084554Z
DTSTART:20220727T223000Z
DTEND:20220728T000000Z
LOCATION:Centro de Espiritualidad Ignaciana Argentina
SUMMARY:El liderazgo desde la espiritualidad ignaciana (CEIA-CABA)
DESCRIPTION:Fecha: Miércoles 6\, 13\, 20 y 27 de Julio. Horario: 19:30hs a
  21:00hs. Lugar: Av. Callao 542\,  CABA\,  Buenos Aires. Argentina. Requier
 e inscripción previa. Información e inscripciones en secretaria@ceia.org.
 ar / +54 911 2652 1237 Acompaña: Dra. María Laura Eder\nhttps://sabiamen
 teignorante.com/events/el-liderazgo-desde-la-espiritualidad-ignaciana-ceia-
 caba-4/
URL:https://sabiamenteignorante.com/events/el-liderazgo-desde-la-espiritualidad-ignaciana-ceia-caba-4/
END:VEVENT
END:VCALENDAR